BEGIN:VCALENDAR
VERSION:2.0
PRODID:-//wp-events-plugin.com//7.2.3.1//EN
TZID:America/New_York
X-WR-TIMEZONE:America/New_York
BEGIN:VEVENT
UID:47@wp.mrcgem.com
DTSTART;TZID=America/New_York:20260927T130000
DTEND;TZID=America/New_York:20260927T150000
DTSTAMP:20250920T094717Z
URL:https://wp.mrcgem.com/events/19th-annual-volunteer-appreciation-picnic
 /
SUMMARY:19th Annual Volunteer Appreciation Picnic
DESCRIPTION:You and your immediate family are invited to our 19th Annual Vo
 lunteer Picnic.
LOCATION:Danny Cochran Pavilion\, 4758 S Old Peachtree Rd\, Norcross\, GA\,
  30071\, United States
X-APPLE-STRUCTURED-LOCATION;VALUE=URI;X-ADDRESS=4758 S Old Peachtree Rd\, N
 orcross\, GA\, 30071\, United States;X-APPLE-RADIUS=100;X-TITLE=Danny Coch
 ran Pavilion:geo:0,0
END:VEVENT
BEGIN:VTIMEZONE
TZID:America/New_York
X-LIC-LOCATION:America/New_York
BEGIN:DAYLIGHT
DTSTART:20260308T030000
TZOFFSETFROM:-0500
TZOFFSETTO:-0400
TZNAME:EDT
END:DAYLIGHT
END:VTIMEZONE
END:VCALENDAR