BEGIN:VCALENDAR
VERSION:2.0
PRODID:-//wp-events-plugin.com//7.2.3.1//EN
TZID:America/New_York
X-WR-TIMEZONE:America/New_York
BEGIN:VEVENT
UID:42@wp.mrcgem.com
DTSTART;TZID=America/New_York:20260418T090000
DTEND;TZID=America/New_York:20260418T140000
DTSTAMP:20260328T115439Z
URL:https://wp.mrcgem.com/events/aha-bls-cpr-aed-certification/
SUMMARY:AHA BLS CPR/AED Certification - Members Only
DESCRIPTION:American Heart Association BLS Certification. Space is limited
 \, with only 30 slots available on a first-come\, first-served basis. Onl
 y sign up if you know you will be able to attend! If you sign up\, but la
 ter find you can’t attend\, please be sure to cancel your signup and ema
 il membership@mrcgem.com.  We'll be at the GNR Health District Office\, 
 2570 Riverside Pkwy\, Lawrenceville\, GA  30046.  We'll get started at 9
  AM.  This class may run a little long\, so be prepared to stay until 2 P
 M.\n\nIf all the slots are full\, you can sign up for the waitlist. While 
 intended primarily for healthcare professionals\, any MRC GEM member who 
 has passed a background check or has a current Georgia healthcare license 
 is welcome. A certification e-card will be provided for all who successfu
 lly complete this class.  To sign up\, please go to https://www.signupge
 nius.com/go/904084AA8A92DA2FB6-63219944-ahabls.  Please let me know if yo
 u have any questions. \n\nJim\nJim Newell\, VP\, Chief Information Office
 r\nMRC GEM (a non-profit Medical Reserve Corps serving\nGeorgia's Newton\,
  Rockdale\, and Gwinnett Counties)\nhttp://mrcgem.com 
LOCATION:GNR Public Health\, 2570 Riverside Pkwy\, Lawrenceville\, GA\, 300
 46\, United States
GEO:33.957068;-84.029279
X-APPLE-STRUCTURED-LOCATION;VALUE=URI;X-ADDRESS=2570 Riverside Pkwy\, Lawre
 nceville\, GA\, 30046\, United States;X-APPLE-RADIUS=100;X-TITLE=GNR Publi
 c Health:geo:33.957068,-84.029279
END:VEVENT
BEGIN:VTIMEZONE
TZID:America/New_York
X-LIC-LOCATION:America/New_York
BEGIN:DAYLIGHT
DTSTART:20260308T030000
TZOFFSETFROM:-0500
TZOFFSETTO:-0400
TZNAME:EDT
END:DAYLIGHT
END:VTIMEZONE
END:VCALENDAR