BEGIN:VCALENDAR
VERSION:2.0
PRODID:-//wp-events-plugin.com//7.2.3.1//EN
TZID:America/New_York
X-WR-TIMEZONE:America/New_York
BEGIN:VEVENT
UID:20@wp.mrcgem.com
DTSTART;TZID=America/New_York:20240622T130000
DTEND;TZID=America/New_York:20240623T133000
DTSTAMP:20240418T123443Z
URL:https://wp.mrcgem.com/events/annual-summit-basic-disaster-life-support
 /
SUMMARY:Annual Summit - Basic Disaster Life Support (MEMBERS ONLY)
DESCRIPTION:Our program for the Summit is Basic Disaster Life Support™ (B
 DLS®)\, a very interesting course on dealing with mass casualties. You ca
 n learn more about BDLS here: https://www.ndlsf.org/bdls/.\n\nWe must fin
 alize arrangements with the hotel where we’ll be holding this year’s W
 eekend Training Summit (June 22-23). Space is limited\, so please go to h
 ttps://www.surveymonkey.com/r/bdls2024 to sign up now. Please let me know
  if you have any questions.\n\nJim Newell\, VP\, Membership\nMRC GEM (a no
 n-profit Medical Reserve Corps serving\nGeorgia's Newton\, Rockdale\, and 
 Gwinnett Counties)\nhttps://wp.mrcgem.com cell (770) 778-4834\nmembership
 @mrcgem.com
LOCATION:Atlanta Marriott Peachtree Corners\, 475 Technology Pkwy NW\, Peac
 htree Corners\, GA\, 30092\, United States
GEO:33.956613;-84.230436
X-APPLE-STRUCTURED-LOCATION;VALUE=URI;X-ADDRESS=475 Technology Pkwy NW\, Pe
 achtree Corners\, GA\, 30092\, United States;X-APPLE-RADIUS=100;X-TITLE=At
 lanta Marriott Peachtree Corners:geo:33.956613,-84.230436
END:VEVENT
BEGIN:VTIMEZONE
TZID:America/New_York
X-LIC-LOCATION:America/New_York
BEGIN:DAYLIGHT
DTSTART:20240310T030000
TZOFFSETFROM:-0500
TZOFFSETTO:-0400
TZNAME:EDT
END:DAYLIGHT
END:VTIMEZONE
END:VCALENDAR