BEGIN:VCALENDAR
VERSION:2.0
PRODID:-//wp-events-plugin.com//7.2.3.1//EN
TZID:America/New_York
X-WR-TIMEZONE:America/New_York
BEGIN:VEVENT
UID:48@wp.mrcgem.com
DTSTART;TZID=America/New_York:20261017T090000
DTEND;TZID=America/New_York:20261017T120000
DTSTAMP:20250920T095005Z
URL:https://wp.mrcgem.com/events/emergency-operations-center-911-center-to
 ur/
SUMMARY:Emergency Operations Center & 911 Center Tour
DESCRIPTION:
LOCATION:Gwinnett County Emergency Operations Center\, 800 Hi Hope Road\, L
 awrenceville\, GA\, 30043\, United States
X-APPLE-STRUCTURED-LOCATION;VALUE=URI;X-ADDRESS=800 Hi Hope Road\, Lawrence
 ville\, GA\, 30043\, United States;X-APPLE-RADIUS=100;X-TITLE=Gwinnett Cou
 nty Emergency Operations Center:geo:0,0
END:VEVENT
BEGIN:VTIMEZONE
TZID:America/New_York
X-LIC-LOCATION:America/New_York
BEGIN:DAYLIGHT
DTSTART:20260308T030000
TZOFFSETFROM:-0500
TZOFFSETTO:-0400
TZNAME:EDT
END:DAYLIGHT
END:VTIMEZONE
END:VCALENDAR