BEGIN:VCALENDAR
VERSION:2.0
PRODID:-//wp-events-plugin.com//7.2.3.1//EN
TZID:America/New_York
X-WR-TIMEZONE:America/New_York
BEGIN:VEVENT
UID:45@wp.mrcgem.com
DTSTART;TZID=America/New_York:20260718T090000
DTEND;TZID=America/New_York:20260718T120000
DTSTAMP:20250920T094357Z
URL:https://wp.mrcgem.com/events/family-preparedness/
SUMMARY:Family Preparedness
DESCRIPTION:To include flood intervention\, Go Bags\, and fire safey
LOCATION:GNR Public Health\, 2570 Riverside Pkwy\, Lawrenceville\, GA\, 300
 46\, United States
GEO:33.957068;-84.029279
X-APPLE-STRUCTURED-LOCATION;VALUE=URI;X-ADDRESS=2570 Riverside Pkwy\, Lawre
 nceville\, GA\, 30046\, United States;X-APPLE-RADIUS=100;X-TITLE=GNR Publi
 c Health:geo:33.957068,-84.029279
END:VEVENT
BEGIN:VTIMEZONE
TZID:America/New_York
X-LIC-LOCATION:America/New_York
BEGIN:DAYLIGHT
DTSTART:20260308T030000
TZOFFSETFROM:-0500
TZOFFSETTO:-0400
TZNAME:EDT
END:DAYLIGHT
END:VTIMEZONE
END:VCALENDAR