BEGIN:VCALENDAR
VERSION:2.0
PRODID:-//wp-events-plugin.com//7.2.3.1//EN
TZID:America/New_York
X-WR-TIMEZONE:America/New_York
BEGIN:VEVENT
UID:43@wp.mrcgem.com
DTSTART;TZID=America/New_York:20260516T090000
DTEND;TZID=America/New_York:20260516T120000
DTSTAMP:20260419T144057Z
URL:https://wp.mrcgem.com/events/fire-department-interface/
SUMMARY:Fire Training Academy Tour
DESCRIPTION:\n\nIn May\, we will tour the Gwinnett County Fire Training Aca
 demy in Dacula\, GA.  We'll meet at 9 AM and finish by noon.  You will n
 ot want to miss this opportunity.\n\nFor more information\, and to sign up
 \, please go to https://www.signupgenius.com/go/904084AA8A92DA2FB6-6362415
 9-gwinnett.  Please let me know if you have any questions.  I hope to se
 e you there.\n\n\n\nJim\n\n\n\n\n\n\n\nJim Newell\, VP\, Chief Information
  Officer\nMRC GEM (a non-profit Medical Reserve Corps serving\nGeorgia's N
 ewton\, Rockdale\, and Gwinnett Counties)\nhttp://mrcgem.com cell\n\n\n\n\
 n\n
LOCATION:Gwinnett County Fire Training Academy\, 3608 Braselton Hwy.\, Dacu
 la\, GA\, 30019\, 
X-APPLE-STRUCTURED-LOCATION;VALUE=URI;X-ADDRESS=3608 Braselton Hwy.\, Dacul
 a\, GA\, 30019\, ;X-APPLE-RADIUS=100;X-TITLE=Gwinnett County Fire Training
  Academy:geo:0,0
END:VEVENT
BEGIN:VTIMEZONE
TZID:America/New_York
X-LIC-LOCATION:America/New_York
BEGIN:DAYLIGHT
DTSTART:20260308T030000
TZOFFSETFROM:-0500
TZOFFSETTO:-0400
TZNAME:EDT
END:DAYLIGHT
END:VTIMEZONE
END:VCALENDAR