BEGIN:VCALENDAR
VERSION:2.0
PRODID:-//wp-events-plugin.com//7.2.3.1//EN
TZID:America/New_York
X-WR-TIMEZONE:America/New_York
BEGIN:VEVENT
UID:16@wp.mrcgem.com
DTSTART;TZID=America/New_York:20240316T090000
DTEND;TZID=America/New_York:20240316T120000
DTSTAMP:20240229T192917Z
URL:https://wp.mrcgem.com/events/first-aid-triage-stop-the-bleed/
SUMMARY:Stop the Bleed Training
DESCRIPTION:\n\n\n\n\n\nStop the Bleed is a national program encouraging ev
 eryone to be prepared to help in a bleeding emergency until professional r
 esponders arrive.  This course shows how to stop bleeding through compres
 sion\, packing\, and application of a tourniquet.  A certificate and blee
 ding control kit will be provided upon completion.\n\nGuests who are prosp
 ective members are welcome to come with you\, but Stop The Bleed Kits will
  only be available to registered members.\n\nTo sign up\, please go to: h
 ttps://www.signupgenius.com/go/904084AA8A92DA2FB6-48038769-stop. We'll be
  at the GNR Health District Office\, 2570 Riverside Pkwy\, Lawrenceville\
 , GA  30046.  We hope to see you there.\n\n\n&nbsp\;\n\n\n\n\n\n\n\n\n\n
 \nJim Newell\, VP\, Membership\n\n\nMRC GEM (a non-profit Medical Reserve 
 Corps serving \nGeorgia's Newton\, Rockdale and Gwinnett Counties)https:
 //wp.mrcgem.com cell (770) 778-4834\n\n\n\n\n\n\n\n\n\n\n\n\n\n
LOCATION:GNR Public Health\, 2570 Riverside Pkwy\, Lawrenceville\, GA\, 300
 46\, United States
GEO:33.957068;-84.029279
X-APPLE-STRUCTURED-LOCATION;VALUE=URI;X-ADDRESS=2570 Riverside Pkwy\, Lawre
 nceville\, GA\, 30046\, United States;X-APPLE-RADIUS=100;X-TITLE=GNR Publi
 c Health:geo:33.957068,-84.029279
END:VEVENT
BEGIN:VTIMEZONE
TZID:America/New_York
X-LIC-LOCATION:America/New_York
BEGIN:DAYLIGHT
DTSTART:20240310T030000
TZOFFSETFROM:-0500
TZOFFSETTO:-0400
TZNAME:EDT
END:DAYLIGHT
END:VTIMEZONE
END:VCALENDAR