BEGIN:VCALENDAR
VERSION:2.0
PRODID:-//wp-events-plugin.com//7.2.3.1//EN
TZID:America/New_York
X-WR-TIMEZONE:America/New_York
BEGIN:VEVENT
UID:21@wp.mrcgem.com
DTSTART;TZID=America/New_York:20240720T090000
DTEND;TZID=America/New_York:20240720T120000
DTSTAMP:20240627T140754Z
URL:https://wp.mrcgem.com/events/psychological-first-aid/
SUMMARY:Psychological First Aid
DESCRIPTION:You are cordially invited to attend a trauma-informed and cultu
 rally responsive approach to psychological first aid from a mental health 
 co-responder's perspective.  Mental health co-responders are out on the f
 ront lines assisting community members who are in active crisis.  Clinici
 ans have become a vital asset to law enforcement and other 1st responders 
 through the use of co-responder models. Communities deserve to thrive duri
 ng times of emergent disaster.  Empowering others during these times is e
 ssential and possible through preparedness training. This training will as
 sist responders with the basic tools required to effectively assist indivi
 duals and various people groups who have been psychologically affected by 
 the aftermath of crisis. You don't want to miss this informative training 
 and conversation!\n\nLink to sign up:  https://www.signupgenius.com/go/90
 4084AA8A92DA2FB6-50185490-psychological
LOCATION:GNR Public Health\, 2570 Riverside Pkwy\, Lawrenceville\, GA\, 300
 46\, United States
GEO:33.957068;-84.029279
X-APPLE-STRUCTURED-LOCATION;VALUE=URI;X-ADDRESS=2570 Riverside Pkwy\, Lawre
 nceville\, GA\, 30046\, United States;X-APPLE-RADIUS=100;X-TITLE=GNR Publi
 c Health:geo:33.957068,-84.029279
END:VEVENT
BEGIN:VTIMEZONE
TZID:America/New_York
X-LIC-LOCATION:America/New_York
BEGIN:DAYLIGHT
DTSTART:20240310T030000
TZOFFSETFROM:-0500
TZOFFSETTO:-0400
TZNAME:EDT
END:DAYLIGHT
END:VTIMEZONE
END:VCALENDAR