BEGIN:VCALENDAR
VERSION:2.0
PRODID:-//wp-events-plugin.com//7.2.3.1//EN
TZID:America/New_York
X-WR-TIMEZONE:America/New_York
BEGIN:VEVENT
UID:8@wp.mrcgem.com
DTSTART;TZID=America/New_York:20230715T090000
DTEND;TZID=America/New_York:20230715T120000
DTSTAMP:20230709T213922Z
URL:https://wp.mrcgem.com/events/shelter-exercise/
SUMMARY:GNR/MRC Shelter Training\, Operations and Deployment
DESCRIPTION:An overview of community shelters will be presented. We’ll di
 scuss the roles that MRC GEM volunteers supporting local GNR and community
  shelters within Georgia would fill.  Plans for upcoming workshops\, trai
 ning\, and exercises will be discussed.  We’ll touch briefly on persona
 l and family preparedness.\n\nPlease let us know if you plan to attend so 
 we'll have enough of everything.  We hope to see you there.\n\nLink to si
 gn up: https://www.signupgenius.com/go/904084AA8A92DA2FB6-gnrmrc
LOCATION:GNR Public Health\, 2570 Riverside Pkwy\, Lawrenceville\, GA\, 300
 46\, United States
GEO:33.957068;-84.029279
X-APPLE-STRUCTURED-LOCATION;VALUE=URI;X-ADDRESS=2570 Riverside Pkwy\, Lawre
 nceville\, GA\, 30046\, United States;X-APPLE-RADIUS=100;X-TITLE=GNR Publi
 c Health:geo:33.957068,-84.029279
END:VEVENT
BEGIN:VTIMEZONE
TZID:America/New_York
X-LIC-LOCATION:America/New_York
BEGIN:DAYLIGHT
DTSTART:20230312T030000
TZOFFSETFROM:-0500
TZOFFSETTO:-0400
TZNAME:EDT
END:DAYLIGHT
END:VTIMEZONE
END:VCALENDAR 